BEGIN:VCALENDAR
VERSION:2.0
PRODID:-//Intuitive Defensive Shooting - ECPv5.0.0//NONSGML v1.0//EN
CALSCALE:GREGORIAN
METHOD:PUBLISH
X-WR-CALNAME:Intuitive Defensive Shooting
X-ORIGINAL-URL:https://intuitiveshooting.com
X-WR-CALDESC:Events for Intuitive Defensive Shooting
BEGIN:VTIMEZONE
TZID:UTC
BEGIN:STANDARD
TZOFFSETFROM:+0000
TZOFFSETTO:+0000
TZNAME:UTC
DTSTART:20240101T000000
END:STANDARD
END:VTIMEZONE
BEGIN:VEVENT
DTSTART;VALUE=DATE:20240920
DTEND;VALUE=DATE:20240922
DTSTAMP:20260419T120519
CREATED:20240902T182635Z
LAST-MODIFIED:20240902T182635Z
UID:70083-1726790400-1726963199@intuitiveshooting.com
SUMMARY:Intuitive Defensive® Shooting
DESCRIPTION:The Intuitive Defensive® Shooting Program is an Intuitive shooting program designed to help the student be more Efficient with a defensive firearm in the context of a Dynamic Critical Incident. \n\nThis course is two full days of intense training\, teaching and practice. The course will cover the following topics: \n\nFundamentals of Defensive Shooting & Intuitive Skill Development\nCombat Accuracy\nLateral Motion\nThe Balance of Speed & Precision\nThe Critical Incident Reload\nVolume of Fire\nRealistic Training for Multiple Target Engagement\nUnderstanding the Body’s Natural Reactions during a Dynamic Critical Incident.\nThe Skill Development Cycle\nOne Handed & Weak Handed Shooting\nNon-Diagnostic Linear Malfunction Clearing\nShooting in Motion (When\, How & Why)\n\n\n
URL:https://intuitiveshooting.com/event/intuitive-defensive-shooting-11/
LOCATION:Blair Creek Training Center\, 15017 Greasy Valley Rd\, Prairie Grove\, AR\, 72753\, United States
CATEGORIES:Intuitive Defensive Shooting
ATTACH;FMTTYPE=image/jpeg:https://intuitiveshooting.com/wp-content/uploads/2024/09/APH-course-image.jpg
ORGANIZER;CN="Robert%20Jennings%20-%20Cabot%2C%20AR":MAILTO:mailto:rob.jennings@gettrainedbeready.com
END:VEVENT
END:VCALENDAR