BEGIN:VCALENDAR
VERSION:2.0
PRODID:-//Intuitive Defensive Shooting - ECPv5.0.0//NONSGML v1.0//EN
CALSCALE:GREGORIAN
METHOD:PUBLISH
X-WR-CALNAME:Intuitive Defensive Shooting
X-ORIGINAL-URL:https://intuitiveshooting.com
X-WR-CALDESC:Events for Intuitive Defensive Shooting
BEGIN:VTIMEZONE
TZID:UTC
BEGIN:STANDARD
TZOFFSETFROM:+0000
TZOFFSETTO:+0000
TZNAME:UTC
DTSTART:20210101T000000
END:STANDARD
END:VTIMEZONE
BEGIN:VEVENT
DTSTART;TZID=UTC:20210501T130000
DTEND;TZID=UTC:20210501T170000
DTSTAMP:20260423T022133
CREATED:20200810T001745Z
LAST-MODIFIED:20210330T140102Z
UID:68984-1619874000-1619888400@intuitiveshooting.com
SUMMARY:Introduction to Intuitive Defensive Shooting
DESCRIPTION:The Introduction to IDS is a half day course that will expose the student to many of the core principles and Fundamentals of the Intuitive Defensive® Shooting Program. This course will cover the basics of intuitive defensive shooting\, Combat Accuracy\, The Balance of Speed & Precision\, an introduction to the understanding the Body’s Natural Reactions during a Dynamic Critical Incident\, understanding the integration of lateral motion and additional concepts as time allows. \nThis Course will provide the student with an understanding of true Counter Ambush training with a defensive firearm\, base level defensive shooting skills and a training methodology for continuing to develop those skills.\nWhat do I need to bring? \nDefensive Pistol\nBackup gun (optional)\n3 double stack or 5 single stack magazines\nStrong side hip or appendix holster (quality kydex\, or a similar type where the top of the holster remains open)\n250-300 rounds ammunition (or we can provide it through our FFL with some notice at fair market value)\nEye and ear protection\nWeather appropriate clothing\nGear that can withstand rigorous use. We will be spending a lot of time coming out of\, and going back to\, the holster. \n
URL:https://intuitiveshooting.com/event/introduction-to-intuitive-defensive-shooting-5/
LOCATION:Private Range  – Searcy\, AR\, Searcy\, AR\, 72143\, United States
CATEGORIES:Introduction to Intuitive Defensive Shooting
ATTACH;FMTTYPE=image/png:https://intuitiveshooting.com/wp-content/uploads/2020/08/intro-to-ids.png
ORGANIZER;CN="Doug%20Glenn%20-%20Searcy%2C%20AR":MAILTO:doug@te-training.com
END:VEVENT
END:VCALENDAR