BEGIN:VCALENDAR
VERSION:2.0
PRODID:-//Intuitive Defensive Shooting - ECPv5.0.0//NONSGML v1.0//EN
CALSCALE:GREGORIAN
METHOD:PUBLISH
X-WR-CALNAME:Intuitive Defensive Shooting
X-ORIGINAL-URL:https://intuitiveshooting.com
X-WR-CALDESC:Events for Intuitive Defensive Shooting
BEGIN:VTIMEZONE
TZID:UTC
BEGIN:STANDARD
TZOFFSETFROM:+0000
TZOFFSETTO:+0000
TZNAME:UTC
DTSTART:20200101T000000
END:STANDARD
END:VTIMEZONE
BEGIN:VEVENT
DTSTART;TZID=UTC:20200822T090000
DTEND;TZID=UTC:20200822T130000
DTSTAMP:20260423T124057
CREATED:20200722T130635Z
LAST-MODIFIED:20200722T130635Z
UID:68977-1598086800-1598101200@intuitiveshooting.com
SUMMARY:Intro to Intuitive Defensive® Shooting (Ladies Only)
DESCRIPTION:Introductions to the Principles and Fundamentals of the Intuitive Defensive® Shooting Course can be taught in one to four hours. These courses range in price according to the planned course time. \nIntro to CFS is offered to give prospective students\, media\, hosts or those without the time or resources for a full 2 day course an idea of what that course covers\, the core principles of the CFS Program\, the fundamental techniques of intuitive defensive shooting and the training methodology that is used in all of the CFS Programs. \nThis course will provide the student with base level defensive shooting skills and some ideas for efficient practice of those skills. \n
URL:https://intuitiveshooting.com/event/intro-to-intuitive-defensive-shooting-ladies-only/
LOCATION:Private Range  – Searcy\, AR\, Searcy\, AR\, 72143\, United States
CATEGORIES:Introduction to Intuitive Defensive Shooting
ATTACH;FMTTYPE=image/jpeg:https://intuitiveshooting.com/wp-content/uploads/2020/07/DSC_4924.jpeg
ORGANIZER;CN="Doug%20Glenn%20-%20Searcy%2C%20AR":MAILTO:doug@te-training.com
END:VEVENT
END:VCALENDAR