BEGIN:VCALENDAR
VERSION:2.0
PRODID:-//Intuitive Defensive Shooting - ECPv5.0.0//NONSGML v1.0//EN
CALSCALE:GREGORIAN
METHOD:PUBLISH
X-WR-CALNAME:Intuitive Defensive Shooting
X-ORIGINAL-URL:https://intuitiveshooting.com
X-WR-CALDESC:Events for Intuitive Defensive Shooting
BEGIN:VTIMEZONE
TZID:UTC
BEGIN:STANDARD
TZOFFSETFROM:+0000
TZOFFSETTO:+0000
TZNAME:UTC
DTSTART:20200101T000000
END:STANDARD
END:VTIMEZONE
BEGIN:VEVENT
DTSTART;VALUE=DATE:20200530
DTEND;VALUE=DATE:20200531
DTSTAMP:20260423T082424
CREATED:20200517T200653Z
LAST-MODIFIED:20200517T200653Z
UID:68947-1590796800-1590883199@intuitiveshooting.com
SUMMARY:Fundamentals of Intuitive Defensive® Shooting
DESCRIPTION:The Fundamentals of IDS is a one day course that will expose the student to all the core principles and fundamentals of the Intuitive Defense Shooting Program. The course will cover the following topics: \n\nFundamentals of Defensive Shooting & Intuitive Skill Development\nCombat Accuracy\nLateral Motion\nThe Balance of Speed & Precision\nThe Critical Incident Reload\nVolume of Fire\nRealistic Training for Multiple Target Engagement\nUnderstanding the Body’s Natural Reactions during a Dynamic Critical Incident\nThe Skill Development Cycle\nOne-Handed & Weak Handed Shooting\n\nThe Intuitive Defense Shooting Course is not designed to make you the best shooter you can be on the range\, instead\, its goal is to help you quickly develop fundamental skills that you can apply in a worst-case scenario defensive shooting situation. \n
URL:https://intuitiveshooting.com/event/fundamentals-of-intuitive-defensive-shooting-19/
LOCATION:Ozark Pistol Club\, 13888 Hwy 43 South\, Siloam Springs\, AR\, United States
CATEGORIES:Introduction to Intuitive Defensive Shooting
ATTACH;FMTTYPE=image/jpeg:https://intuitiveshooting.com/wp-content/uploads/2020/05/DSC_4924-2.jpeg
ORGANIZER;CN="Mike%20Sisk%20-%20Cotter%2C%20AR":MAILTO:sisk@suddenlink.net
END:VEVENT
END:VCALENDAR