BEGIN:VCALENDAR
VERSION:2.0
PRODID:-//Intuitive Defensive Shooting - ECPv5.0.0//NONSGML v1.0//EN
CALSCALE:GREGORIAN
METHOD:PUBLISH
X-WR-CALNAME:Intuitive Defensive Shooting
X-ORIGINAL-URL:https://intuitiveshooting.com
X-WR-CALDESC:Events for Intuitive Defensive Shooting
BEGIN:VTIMEZONE
TZID:America/Los_Angeles
BEGIN:DAYLIGHT
TZOFFSETFROM:-0800
TZOFFSETTO:-0700
TZNAME:PDT
DTSTART:20180311T100000
END:DAYLIGHT
BEGIN:STANDARD
TZOFFSETFROM:-0700
TZOFFSETTO:-0800
TZNAME:PST
DTSTART:20181104T090000
END:STANDARD
END:VTIMEZONE
BEGIN:VEVENT
DTSTART;TZID=America/Los_Angeles:20180218T090000
DTEND;TZID=America/Los_Angeles:20180218T170000
DTSTAMP:20260422T100425
CREATED:20171022T201537Z
LAST-MODIFIED:20171022T201537Z
UID:66146-1518944400-1518973200@intuitiveshooting.com
SUMMARY:Advanced Pistol Handling 1 Day
DESCRIPTION:The Advanced Pistol Handling course is designed to expand the circumstances and conditions under which a student can apply the skills developed in the Intuitive Defensive® Shooting Course. This course will cover: \nNon-Diagnostic Linear Malfunction Drills\nOne handed & Weak Handed Reloads\nOne Handed & Weak Handed Malfunction Drills\nPresentation from the holster in 360 degrees\nUnorthodox Shooting Positions (grounded\, seated)\nShooting Around Cover\nUnreasonable Distance Shooting\nVolume of Fire\nThe Balance of Speed & Precision \nThe APH Course is designed as a companion course for students who have completed fundamental defensive shooting training in the CFS Program and want to expand their skill sets and increase competency. At the end of the course\, the student will have been exposed to (and practiced) shooting positions from all plausible angles while standing\, seated\, kneeling\, prone or supine as well as properly shooting around cover in order to maximize its protective value. Students will also train one handed firearm handling\, reloading and malfunction clearing. Unlike the CFS Program\, in APH students will be forced to deal with a variety of malfunctions in a way that is congruent with the conditions of a dynamic critical incident. \nThe APH course is an intense physically and mentally challenging course that will take any students confidence and ability to defend themselves with a gun to a higher level. \n
URL:https://intuitiveshooting.com/event/advanced-pistol-handling-1-day-2/
LOCATION:Reno Guns & Range\, 3225 Market Street\, Reno\, NV\, 89502\, United States
CATEGORIES:Advanced Pistol Handling
ORGANIZER;CN="Ken%20Crawford%20-%20Reno%2C%20NV":MAILTO:ken@renoguns.com
END:VEVENT
END:VCALENDAR