BEGIN:VCALENDAR
VERSION:2.0
PRODID:-//Intuitive Defensive Shooting - ECPv5.0.0//NONSGML v1.0//EN
CALSCALE:GREGORIAN
METHOD:PUBLISH
X-WR-CALNAME:Intuitive Defensive Shooting
X-ORIGINAL-URL:https://intuitiveshooting.com
X-WR-CALDESC:Events for Intuitive Defensive Shooting
BEGIN:VTIMEZONE
TZID:UTC
BEGIN:STANDARD
TZOFFSETFROM:+0000
TZOFFSETTO:+0000
TZNAME:UTC
DTSTART:20210101T000000
END:STANDARD
END:VTIMEZONE
BEGIN:VEVENT
DTSTART;TZID=UTC:20210522T080000
DTEND;TZID=UTC:20210523T170000
DTSTAMP:20260423T035809
CREATED:20210327T155838Z
LAST-MODIFIED:20210327T160510Z
UID:69166-1621670400-1621789200@intuitiveshooting.com
SUMMARY:2 Day Intuitive Defensive Shooting Course
DESCRIPTION:2 Day Intuitive Defensive Shooting Course \n
URL:https://intuitiveshooting.com/event/2-day-intuitive-defensive-shooting-course/
LOCATION:Faribault Rifle and Pistol Club\, 17324 Lake Ave\, Kilkenny\, MN\, 56052\, United States
CATEGORIES:Intuitive Defensive Shooting
ORGANIZER;CN="Jeff%20Mullenmeister%20-%20Faribault%2C%20MI":MAILTO:mully3228@msn.com
END:VEVENT
END:VCALENDAR